BEGIN:VCALENDAR
VERSION:2.0
PRODID:-//Squarespace Inc/Squarespace 6//v6//EN
BEGIN:VEVENT
UID:596f7e98db29d6d417d6a845@squarespace.com
DTSTAMP:20170719T155812Z
DTSTART:20170722T220000Z
DTEND:20170723T020000Z
SUMMARY:Human Justice Awards Celebration 2017!
END:VEVENT
END:VCALENDAR
