BEGIN:VCALENDAR
VERSION:2.0
PRODID:-//Squarespace Inc/Squarespace 6//v6//EN
BEGIN:VEVENT
UID:596f8facb8a79b239507973b@squarespace.com
DTSTAMP:20170721T201445Z
DTSTART:20170830T220000Z
DTEND:20170831T010000Z
SUMMARY:Bed-Stuy Human Justice Initiative - Village Circle
END:VEVENT
END:VCALENDAR
