BEGIN:VCALENDAR
VERSION:2.0
PRODID:-//Squarespace Inc/Squarespace 6//v6//EN
BEGIN:VEVENT
UID:596f8d42f14aa17ab9944283@squarespace.com
DTSTAMP:20170719T165733Z
DTSTART:20170915T040000Z
DTEND:20170917T035900Z
SUMMARY:Healing Justice Summit
END:VEVENT
END:VCALENDAR
